BEGIN:VCALENDAR
VERSION:2.0
PRODID:-//ChamberMaster//Event Calendar 2.0//EN
METHOD:PUBLISH
X-PUBLISHED-TTL:P3D
REFRESH-INTERVAL:P3D
CALSCALE:GREGORIAN
BEGIN:VEVENT
DTSTART;VALUE=DATE:20260923
DTEND;VALUE=DATE:20260925
TRANSP:TRANSPARENT
X-MICROSOFT-CDO-ALLDAYEVENT:TRUE
SUMMARY:Fly-In on Tariff Policy | Washington D.C.
DESCRIPTION:Fly-In on Tariff Policy\n\n\n\nThe Delegation of German Industry and Commerce in Washington\, DC (DGIC) is pleased to host a Fly-In focused on Tariff Policy\, taking place from September 23rd - 24th\, 2026 in Washington\, D.C. Open to companies across all industries\, the Fly-In is designed to facilitate meaningful dialogue about tariff policy and its impact of German business operations in the U.S.\n\n\n\nThis two-day program offers a unique opportunity to engage directly with key policymakers and stakeholders in Washington\, D.C. during a full day of meetings with representatives from the U.S. Administration\, U.S. Congress\, and the German Embassy\, and will conclude with DGIC's annual Oktoberfest   an exclusive networking event attended by more than 200 professionals from the policy and business communities of the DC\, Maryland\, and Virginia region.\n\n\n\nOnly 12 spots are available - secure yours today:\n\n\n\nRegister here
X-ALT-DESC;FMTTYPE=text/html:<span style="font-size: 14px\;"><u><strong>Fly-In on Tariff Policy</strong></u><br />\n<br />\nThe Delegation of German Industry and Commerce in Washington\, DC (DGIC) is pleased to host a Fly-In focused on Tariff Policy\, taking place from September 23rd - 24th\, 2026 in Washington\, D.C. Open to companies across all industries\, the Fly-In is&nbsp\;<strong>designed to facilitate meaningful dialogue </strong></span><!--StartFragment--><strong><span data-olk-copy-source="MessageBody" style="color: rgb(36\, 36\, 36)\; font-size: 11pt\; font-family: &quot\;Source Sans Pro&quot\;\, sans-serif\;">a<span style="font-size:14px\;">bout tariff policy and its impact of German business operations in the U.S.</span></span></strong><!--EndFragment--><br />\n<br />\n<span style="font-size: 14px\;">This two-day program offers a&nbsp\;<strong>unique opportunity to engage directly with key policymakers and stakeholders</strong>&nbsp\;in Washington\, D.C. during a full day of meetings with&nbsp\;<strong>representatives from the U.S. Administration\, U.S. Congress\, and the German Embassy</strong>\, and will conclude with DGIC&rsquo\;s&nbsp\;<strong>annual Oktoberfest</strong>&nbsp\;&ndash\; an exclusive networking event attended by more than 200 professionals from the policy and business communities of the DC\, Maryland\, and Virginia region.</span><br />\n<br />\n<strong style="font-size: 14px\;">Only 12 spots are available</strong><span style="font-size: 14px\;">&nbsp\;- secure yours today:</span><br />\n<br />\n<span style="font-size: 16px\;"><u><strong><a href="https://washington.usa.ahk.de/us/dc-fly-in">Register here</a></strong></u></span>
LOCATION:Washington\, D.C. For more information\, please reach out to Jayne Peters at the DGIC.
UID:e.2968.884
SEQUENCE:3
DTSTAMP:20260424T014937Z
URL:https://mychamber.gaccny.com/events/details/fly-in-on-tariff-policy-washington-d-c-884
END:VEVENT

END:VCALENDAR
